BEGIN:VCALENDAR
VERSION:2.0
CALSCALE:GREGORIAN
PRODID:adamgibbons/ics
METHOD:PUBLISH
X-PUBLISHED-TTL:PT1H
BEGIN:VEVENT
UID:21702@demo.gancio.org
SUMMARY:Skankin' Tree presents straight from U.K. Alligator Dubs
DTSTAMP:20260421T213251Z
DTSTART:20260516T180000Z
URL:https://demo.gancio.org/event/skankin-tree-presents-straight-from-uk-al
	ligator-dubs
GEO:41.8929655;12.5356901
LOCATION:CSOA Ex-Snia - Via Prenestina 173
STATUS:CONFIRMED
CATEGORIES:musica,roots/reggae/dub,sound system
END:VEVENT
END:VCALENDAR
